BEGIN:VCALENDAR
METHOD:PUBLISH
PRODID:-//doubleknot.com//CalenderEvent MIMEDIR//EN
VERSION:2.0
BEGIN:VEVENT
UID:3120471-20261003T070000Z-20261004T070000Z@doubleknot.com
CREATED:20250924T134827Z
LAST-MODIFIED:20251007T184633Z
DTSTAMP:20260422T132842Z
DTSTART;VALUE=DATE:20261003
DTEND;VALUE=DATE:20261004
LOCATION:Camp Peaceful Waters<br>240 Lac Bouchette Rd, Morin-Heights, QC J0R 1H0, CA
CATEGORIES:QC Events
DESCRIPTION: \n  \n  \n Where: Camp Peaceful Waters - 240 Rue Bouchette, Morin-Heights, Quebec J0R 1H0 \n  \n What: A fun-filled day of memories \n  \n Who: Current and former campers, staff, and volunteers (adults) \n  \n When: October 3, 2026 \n  \n Why: Celebrate 100 years of our beautiful camp \n  \n How: Sign up to be notified by email when registration opens \n  \n  \n Since 1926, generations of Quebec Girl Guides have been camping along the shores of Lac Bouchette. Whether you knew it as Quebec Girl Guide Camp, Wa-Thik-Ane, or Camp Peaceful Waters, on Saturday, October 3rd 2026, come join us for a walk down memory lane at camp. \n  \n  \n Click on register below and complete this form to be notified by email once registration opens in the Spring. \n  \n  \n Please note that the collection of billing information at the end of the registration form is a technicality. Although there will be a participation fee for the actual event, no payment will be processed when you sign up for the email notification. \n  \n  \n Please visit the Celebration 100 web page for more information. \n  \n  \n   \n  \n  \n Qui: campeuses, anciennes campeuses, personnel et b&eacute;n&eacute;voles (adultes) \n  \n Quoi: une journ&eacute;e remplie de souvenirs et de plaisir \n  \n O&ugrave;: Camp Eaux Tranquilles - 240 Rue Bouchette, Morin-Heights, Quebec J0R 1H0 \n  \n Quand: le 3 octobre 2026 \n  \n Comment: inscrivez-vous pour recevoir une notification par courriel lors de l&rsquo;ouverture des inscriptions \n  \n Pourquoi: c&eacute;l&eacute;brer le 100e anniversaire de notre camp \n  \n  \n Depuis 1926, des g&eacute;n&eacute;rations de guides qu&eacute;b&eacute;coises campent sur les rives du lac Bouchette. Peu importe si vous l&rsquo;avez connu sous le nom du camp des Guides du Qu&eacute;bec, Wa-Thik-Ane, ou camp Eaux Tranquilles, nous vous invitons &agrave; nous rejoindre au camp pour revisiter vos souvenirs. \n  \n  \n Cliquez sur bouton d&#39;inscriptoin ci-dessous et remplissez le formulaire pour recevoir une notification par courriel lors de l&rsquo;ouverture des inscriptions ce printemps. \n  \n  \n Veuillez noter que la saisie des d&eacute;tails de facturation dans ce formulaire est un requis technique du logiciel. Bien qu&rsquo;il y aura des frais de participation pour l&rsquo;&eacute;v&eacute;nement, l&rsquo;inscription pour la notification par courriel est gratuite - aucun paiement ne sera trait&eacute;. \n  \n  \n Visitez la page  pour plus d&rsquo;informations. \n  \n  \n Contactez-nous: qc-celebration2@guidescanada.ca \n  \n  \n  \n  \n  
SUMMARY:Celebration 100, Alumni Event
PRIORITY:5
BEGIN:VALARM
TRIGGER:PT15M
ACTION:DISPLAY
DESCRIPTION:Reminder
PRIORITY:5
END:VALARM
END:VEVENT
END:VCALENDAR
